Workbook

Sheet START HERE
A1: Cells contained in this worksheet may contain cells with dropdown lists as well as autopopulated formulas.
A2: HECVAT™ Solution Provider Response - Start Here | F2: ='Auto Responses'!$A$36
A3: Date Completed | C3: 46317
A4: Instructions for Solution Providers
A5: =HLOOKUP($A$4,'Auto Responses'!$D$2:$D$8,2,0)&""
A6: =HLOOKUP($A$4,'Auto Responses'!$D$2:$D$8,3,0)&""
A7: =HLOOKUP($A$4,'Auto Responses'!$D$2:$D$8,4,0)&"" -> 3. Guidance in column E may change based on your answers to prompt details in "Additional Information." If leaving an answer blank, you must also state why in "Additional Information".
A8: =HLOOKUP($A$4,'Auto Responses'!$D$2:$D$8,5,0)&""
A9: =HLOOKUP($A$4,'Auto Responses'!$D$2:$D$8,6,0)&""
A10: =HLOOKUP($A$4,'Auto Responses'!$D$2:$D$8,7,0)&""
A11: =HLOOKUP($A$4,'Auto Responses'!$D$2:$D$9,8,0)&""
A12: =VLOOKUP(LEFT($A13,4),'Auto Responses'!$N$4:$O$38,2,0)&"" -> General Information
A13: GNRL-01 | B13: =VLOOKUP($A13,Questions!$A$2:$X$333,2,0)&"" | C13: BLOOM EDTECH
A14: GNRL-02 | B14: =VLOOKUP($A14,Questions!$A$2:$X$333,2,0)&"" | C14: Edugator
A15: GNRL-03 | B15: =VLOOKUP($A15,Questions!$A$2:$X$333,2,0)&"" | C15: Edugator is a web-based (SaaS) platform for computing education. Instructors author programming problems, lessons and timed exams; students write and run code in the browser with automated test-case grading; instructors get a gradebook and analytics. Integrates with Canvas via LTI 1.3 (launch, roster, grade passback) and includes optional AI features (an AI tutor for students and AI-assisted authoring for instructors) powered by OpenAI.
A16: GNRL-04 | B16: =VLOOKUP($A16,Questions!$A$2:$X$333,2,0)&"" | C16: Marc Diaz
A17: GNRL-05 | B17: =VLOOKUP($A17,Questions!$A$2:$X$333,2,0)&"" | C17: Founder
A18: GNRL-06 | B18: =VLOOKUP($A18,Questions!$A$2:$X$333,2,0)&"" | C18: marc@edugator.app
A19: GNRL-07 | B19: =VLOOKUP($A19,Questions!$A$2:$X$333,2,0)&"" | C19: 352-281-4587
A20: GNRL-08 | B20: =VLOOKUP($A20,Questions!$A$2:$X$333,2,0)&"" | C20: United States
A21: GNRL-09 | B21: =VLOOKUP($A21,Questions!$A$2:$X$333,2,0)&"" | C21: Remote US
A22: =VLOOKUP(LEFT($A23,4),'Auto Responses'!$N$4:$O$38,2,0)&"" -> Company Information | C22: Answer | D22: Additional Information | E22: Guidance | F22: Analyst Notes
A23: COMP-01 | B23: =VLOOKUP($A23,Questions!$A$2:$X$333,2,0)&"" | C23: Yes | D23: Small in-house engineering team responsible for development, operations and support. | E23: =IF($C23='Auto Responses'!$J$3,VLOOKUP($A23,Questions!$A$2:$X$333,17,0)&"",IF($C23='Auto Responses'!$J$4,VLOOKUP($A23,Questions!$A$2:$X$333,16,0)&"",IF($C23='Auto Responses'!$J$5,VLOOKUP($A23,Questions!$A$2:$X$333,18,0)&"",VLOOKUP($A23,Questions!$A$2:$X$333,15,0)&""))) | F23: =VLOOKUP($A23,'Institution Evaluation'!$A$56:$F$345,6,0)&""
A24: COMP-02 | B24: =VLOOKUP($A24,Questions!$A$2:$X$333,2,0)&"" | C24: CONFIRM: [Describe legal entity, ownership, any parent/subsidiary relationships.] Edugator has no offshore operations; all staff and systems are in the United States. | E24: =IF($C24='Auto Responses'!$J$3,VLOOKUP($A24,Questions!$A$2:$X$333,17,0)&"",IF($C24='Auto Responses'!$J$4,VLOOKUP($A24,Questions!$A$2:$X$333,16,0)&"",VLOOKUP($A24,Questions!$A$2:$X$333,15,0)&"")) | F24: =VLOOKUP($A24,'Institution Evaluation'!$A$56:$F$345,6,0)&""
A25: COMP-03 | B25: =VLOOKUP($A25,Questions!$A$2:$X$333,2,0)&"" | C25: Yes | D25: No unplanned disruptions to the solution in the past 12 months. | E25: =IF($C25='Auto Responses'!$J$3,VLOOKUP($A25,Questions!$A$2:$X$333,17,0)&"",IF($C25='Auto Responses'!$J$4,VLOOKUP($A25,Questions!$A$2:$X$333,16,0)&"",VLOOKUP($A25,Questions!$A$2:$X$333,15,0)&"")) | F25: =VLOOKUP($A25,'Institution Evaluation'!$A$56:$F$345,6,0)&""
A26: COMP-04 | B26: =VLOOKUP($A26,Questions!$A$2:$X$333,2,0)&"" | C26: No | D26: Security is handled by the engineering team; there is no dedicated security staff or office. | E26: =IF($C26='Auto Responses'!$J$3,VLOOKUP($A26,Questions!$A$2:$X$333,17,0)&"",IF($C26='Auto Responses'!$J$4,VLOOKUP($A26,Questions!$A$2:$X$333,16,0)&"",VLOOKUP($A26,Questions!$A$2:$X$333,15,0)&"")) | F26: =VLOOKUP($A26,'Institution Evaluation'!$A$56:$F$345,6,0)&""
A27: COMP-05 | B27: =VLOOKUP($A27,Questions!$A$2:$X$333,2,0)&"" | C27: Edugator runs on AWS (us-east-1): containers on Amazon ECS behind an Application Load Balancer with TLS 1.2/1.3, Amazon RDS PostgreSQL, Amazon S3 (SSE-AES256) for assets, DynamoDB for caches, SSM Parameter Store for secrets. The frontend is a static Next.js site on S3/CloudFront. Authentication is delegated to Clerk (email/password and SAML SSO) and LTI 1.3 from Canvas. Infrastructure is managed as code with Terraform; deployments run through GitHub Actions with OIDC-based AWS roles after automated tests pass. Application code uses parameterized SQL (sqlc) and role-based authorization (instructor / TA / student / platform admin). | E27: =IF($C27='Auto Responses'!$J$3,VLOOKUP($A27,Questions!$A$2:$X$333,17,0)&"",IF($C27='Auto Responses'!$J$4,VLOOKUP($A27,Questions!$A$2:$X$333,16,0)&"",VLOOKUP($A27,Questions!$A$2:$X$333,15,0)&"")) | F27: =VLOOKUP($A27,'Institution Evaluation'!$A$56:$F$345,6,0)&"" | G27: End Table Data
A28: =VLOOKUP(LEFT($A29,4),'Auto Responses'!$N$4:$O$38,2,0)&"" -> Required Questions | C28: Answer | D28: Additional Information | E28: Guidance | F28: Analyst Notes
A29: REQU-01 | B29: =VLOOKUP($A29,Questions!$A$2:$X$333,2,0)&"" | C29: Yes | E29: =IF($C29='Auto Responses'!$J$3,VLOOKUP($A29,Questions!$A$2:$X$333,17,0)&"",IF($C29='Auto Responses'!$J$4,VLOOKUP($A29,Questions!$A$2:$X$333,16,0)&"",VLOOKUP($A29,Questions!$A$2:$X$333,15,0)&"")) | F29: =VLOOKUP($A29,'Institution Evaluation'!$A$56:$F$345,6,0)&""
A30: REQU-02 | B30: =VLOOKUP($A30,Questions!$A$2:$X$333,2,0)&"" | C30: Yes | E30: =IF($C30='Auto Responses'!$J$3,VLOOKUP($A30,Questions!$A$2:$X$333,17,0)&"",IF($C30='Auto Responses'!$J$4,VLOOKUP($A30,Questions!$A$2:$X$333,16,0)&"",VLOOKUP($A30,Questions!$A$2:$X$333,15,0)&"")) | F30: =VLOOKUP($A30,'Institution Evaluation'!$A$56:$F$345,6,0)&""
A31: REQU-03 | B31: =VLOOKUP($A31,Questions!$A$2:$X$333,2,0)&"" | C31: No | E31: =IF($C31='Auto Responses'!$J$3,VLOOKUP($A31,Questions!$A$2:$X$333,17,0)&"",IF($C31='Auto Responses'!$J$4,VLOOKUP($A31,Questions!$A$2:$X$333,16,0)&"",VLOOKUP($A31,Questions!$A$2:$X$333,15,0)&"")) | F31: =VLOOKUP($A31,'Institution Evaluation'!$A$56:$F$345,6,0)&""
A32: REQU-04 | B32: =VLOOKUP($A32,Questions!$A$2:$X$333,2,0)&"" | C32: Yes | D32: AI tutor chat and AI-assisted authoring powered by OpenAI. See AI tab. | E32: =IF($C32='Auto Responses'!$J$3,VLOOKUP($A32,Questions!$A$2:$X$333,17,0)&"",IF($C32='Auto Responses'!$J$4,VLOOKUP($A32,Questions!$A$2:$X$333,16,0)&"",VLOOKUP($A32,Questions!$A$2:$X$333,15,0)&"")) | F32: =VLOOKUP($A32,'Institution Evaluation'!$A$56:$F$345,6,0)&""
A33: REQU-05 | B33: =VLOOKUP($A33,Questions!$A$2:$X$333,2,0)&"" | C33: No | E33: =IF($C33='Auto Responses'!$J$3,VLOOKUP($A33,Questions!$A$2:$X$333,17,0)&"",IF($C33='Auto Responses'!$J$4,VLOOKUP($A33,Questions!$A$2:$X$333,16,0)&"",VLOOKUP($A33,Questions!$A$2:$X$333,15,0)&"")) | F33: =VLOOKUP($A33,'Institution Evaluation'!$A$56:$F$345,6,0)&""
A34: REQU-06 | B34: =VLOOKUP($A34,Questions!$A$2:$X$333,2,0)&"" | C34: Yes | D34: Optional student access fees are paid through Stripe-hosted Checkout. Card data is entered on Stripe's pages and never reaches Edugator systems. | E34: =IF($C34='Auto Responses'!$J$3,VLOOKUP($A34,Questions!$A$2:$X$333,17,0)&"",IF($C34='Auto Responses'!$J$4,VLOOKUP($A34,Questions!$A$2:$X$333,16,0)&"",VLOOKUP($A34,Questions!$A$2:$X$333,15,0)&"")) | F34: =VLOOKUP($A34,'Institution Evaluation'!$A$56:$F$345,6,0)&""
A35: REQU-07 | B35: =VLOOKUP($A35,Questions!$A$2:$X$333,2,0)&"" | C35: No | E35: =IF($C35='Auto Responses'!$J$3,VLOOKUP($A35,Questions!$A$2:$X$333,17,0)&"",IF($C35='Auto Responses'!$J$4,VLOOKUP($A35,Questions!$A$2:$X$333,16,0)&"",VLOOKUP($A35,Questions!$A$2:$X$333,15,0)&"")) | F35: =VLOOKUP($A35,'Institution Evaluation'!$A$56:$F$345,6,0)&""
A36: REQU-08 | B36: =VLOOKUP($A36,Questions!$A$2:$X$333,2,0)&"" | C36: Yes | D36: Student names, emails, code submissions, and AI chat history. | E36: =IF($C36='Auto Responses'!$J$3,VLOOKUP($A36,Questions!$A$2:$X$333,17,0)&"",IF($C36='Auto Responses'!$J$4,VLOOKUP($A36,Questions!$A$2:$X$333,16,0)&"",VLOOKUP($A36,Questions!$A$2:$X$333,15,0)&"")) | F36: =VLOOKUP($A36,'Institution Evaluation'!$A$56:$F$345,6,0)&"" | G36: End Table Data
A37: Note: The "Organization" tab is required for ALL products and services.
A38: Copyright © 2025 EDUCAUSE

Sheet Organization
A1: Cells contained in this worksheet may contain cells with dropdown lists as well as autopopulated formulas.
A2: HECVAT Solution Provider Response - Organization | F2: ='Auto Responses'!$A$36
A3: Date Completed | C3: ='START HERE'!$C$3
A4: Instructions for Solution Providers
A5: =HLOOKUP($A$4,'Auto Responses'!$D$2:$D$8,2,0)&""
A6: =HLOOKUP($A$4,'Auto Responses'!$D$2:$D$8,3,0)&""
A7: =HLOOKUP($A$4,'Auto Responses'!$D$2:$D$8,4,0)&"" -> 3. Guidance in column E may change based on your answers to prompt details in "Additional Information." If leaving an answer blank, you must also state why in "Additional Information".
A8: =HLOOKUP($A$4,'Auto Responses'!$D$2:$D$8,5,0)&""
A9: =HLOOKUP($A$4,'Auto Responses'!$D$2:$D$8,6,0)&""
A10: =HLOOKUP($A$4,'Auto Responses'!$D$2:$D$8,7,0)&""
A11: =HLOOKUP($A$4,'Auto Responses'!$D$2:$D$9,8,0)&""
A12: =VLOOKUP(LEFT($A13,4),'Auto Responses'!$N$4:$O$38,2,0)&"" -> General Information | C12: Answer
A13: GNRL-01 | B13: =VLOOKUP($A13,Questions!$A$2:$X$333,2,0)&"" | C13: =VLOOKUP($A13,'START HERE'!$A$13:$C$21,3,0)&""
A14: GNRL-02 | B14: =VLOOKUP($A14,Questions!$A$2:$X$333,2,0)&"" | C14: =VLOOKUP($A14,'START HERE'!$A$13:$C$21,3,0)&""
A15: GNRL-03 | B15: =VLOOKUP($A15,Questions!$A$2:$X$333,2,0)&"" | C15: =VLOOKUP($A15,'START HERE'!$A$13:$C$21,3,0)&""
A16: GNRL-04 | B16: =VLOOKUP($A16,Questions!$A$2:$X$333,2,0)&"" | C16: =VLOOKUP($A16,'START HERE'!$A$13:$C$21,3,0)&""
A17: GNRL-05 | B17: =VLOOKUP($A17,Questions!$A$2:$X$333,2,0)&"" | C17: =VLOOKUP($A17,'START HERE'!$A$13:$C$21,3,0)&""
A18: GNRL-06 | B18: =VLOOKUP($A18,Questions!$A$2:$X$333,2,0)&"" | C18: =VLOOKUP($A18,'START HERE'!$A$13:$C$21,3,0)&""
A19: GNRL-07 | B19: =VLOOKUP($A19,Questions!$A$2:$X$333,2,0)&"" | C19: =VLOOKUP($A19,'START HERE'!$A$13:$C$21,3,0)&""
A20: GNRL-08 | B20: =VLOOKUP($A20,Questions!$A$2:$X$333,2,0)&"" | C20: =VLOOKUP($A20,'START HERE'!$A$13:$C$21,3,0)&""
A21: =VLOOKUP(LEFT($A22,4),'Auto Responses'!$N$4:$O$38,2,0)&"" -> Documentation | C21: Answer | D21: Additional Information | E21: Guidance | F21: Analyst Notes
A22: DOCU-01 | B22: =VLOOKUP($A22,Questions!$A$2:$X$333,2,0) | C22: Yes | D22: Edugator internal policies (available on request): Business Continuity and Disaster Recovery Plan, owned by Marc Diaz (Founder), tested annually (point-in-time database restore and release redeploy). | E22: =IF($C22='Auto Responses'!$J$3,VLOOKUP($A22,Questions!$A$2:$X$333,17,0)&"",IF($C22='Auto Responses'!$J$4,VLOOKUP($A22,Questions!$A$2:$X$333,16,0)&"",VLOOKUP($A22,Questions!$A$2:$X$333,15,0)&"")) | F22: =VLOOKUP($A22,'Institution Evaluation'!$A$56:$F$345,6,0)&""
A23: DOCU-02 | B23: =VLOOKUP($A23,Questions!$A$2:$X$333,2,0) | C23: Yes | D23: Edugator internal policies (available on request): Business Continuity and Disaster Recovery Plan, owned by Marc Diaz (Founder). RDS point-in-time restore (7-day retention), last known good release redeployable in minutes, infrastructure rebuildable from Terraform. RTO 4 hours / RPO 5 minutes for database loss. Tested annually. | E23: =IF($C23='Auto Responses'!$J$3,VLOOKUP($A23,Questions!$A$2:$X$333,17,0)&"",IF($C23='Auto Responses'!$J$4,VLOOKUP($A23,Questions!$A$2:$X$333,16,0)&"",VLOOKUP($A23,Questions!$A$2:$X$333,15,0)&"")) | F23: =VLOOKUP($A23,'Institution Evaluation'!$A$56:$F$345,6,0)&""
A24: DOCU-03 | B24: =VLOOKUP($A24,Questions!$A$2:$X$333,2,0) | C24: No | D24: No SOC 2 audit has been performed. Hosting provider (AWS) is SOC 2 Type 2. | E24: =IF($C24='Auto Responses'!$J$3,VLOOKUP($A24,Questions!$A$2:$X$333,17,0)&"",IF($C24='Auto Responses'!$J$4,VLOOKUP($A24,Questions!$A$2:$X$333,16,0)&"",VLOOKUP($A24,Questions!$A$2:$X$333,15,0)&"")) | F24: =VLOOKUP($A24,'Institution Evaluation'!$A$56:$F$345,6,0)&""
A25: DOCU-04 | B25: =VLOOKUP($A25,Questions!$A$2:$X$333,2,0) | C25: No | D25: No formal certification. Edugator's policies are aligned with the CIS Critical Security Controls, Implementation Group 1. | E25: =IF($C25='Auto Responses'!$J$3,VLOOKUP($A25,Questions!$A$2:$X$333,17,0)&"",IF($C25='Auto Responses'!$J$4,VLOOKUP($A25,Questions!$A$2:$X$333,16,0)&"",VLOOKUP($A25,Questions!$A$2:$X$333,15,0)&"")) | F25: =VLOOKUP($A25,'Institution Evaluation'!$A$56:$F$345,6,0)&""
A26: DOCU-05 | B26: =VLOOKUP($A26,Questions!$A$2:$X$333,2,0) | C26: Yes | D26: Architecture and data-flow descriptions can be provided on request. | E26: =IF($C26='Auto Responses'!$J$3,VLOOKUP($A26,Questions!$A$2:$X$333,17,0)&"",IF($C26='Auto Responses'!$J$4,VLOOKUP($A26,Questions!$A$2:$X$333,16,0)&"",VLOOKUP($A26,Questions!$A$2:$X$333,15,0)&"")) | F26: =VLOOKUP($A26,'Institution Evaluation'!$A$56:$F$345,6,0)&""
A27: DOCU-06 | B27: =VLOOKUP($A27,Questions!$A$2:$X$333,2,0) | C27: Yes | D27: https://edugator.app/privacypolicy and FERPA Addendum https://edugator.app/ferpa | E27: =IF($C27='Auto Responses'!$J$3,VLOOKUP($A27,Questions!$A$2:$X$333,17,0)&"",IF($C27='Auto Responses'!$J$4,VLOOKUP($A27,Questions!$A$2:$X$333,16,0)&"",VLOOKUP($A27,Questions!$A$2:$X$333,15,0)&"")) | F27: =VLOOKUP($A27,'Institution Evaluation'!$A$56:$F$345,6,0)&""
A28: DOCU-07 | B28: =VLOOKUP($A28,Questions!$A$2:$X$333,2,0) | C28: Yes | D28: Edugator internal policies (available on request): Information Security Policy §9 covers onboarding (agreements, training, least-privilege access) and offboarding (access removal, secret rotation, data return). | E28: =IF($C28='Auto Responses'!$J$3,VLOOKUP($A28,Questions!$A$2:$X$333,17,0)&"",IF($C28='Auto Responses'!$J$4,VLOOKUP($A28,Questions!$A$2:$X$333,16,0)&"",VLOOKUP($A28,Questions!$A$2:$X$333,15,0)&"")) | F28: =VLOOKUP($A28,'Institution Evaluation'!$A$56:$F$345,6,0)&"" | G28: End Table Data
A29: =VLOOKUP(LEFT($A30,4),'Auto Responses'!$N$4:$O$38,2,0)&"" -> Assessment of Third Parties | C29: Answer | D29: Additional Information | E29: Guidance | F29: Analyst Notes
A30: THRD-01 | B30: =VLOOKUP($A30,Questions!$A$2:$X$333,2,0) | C30: Yes | D30: Edugator internal policies (available on request): Vendor Management policy: security evidence (SOC 2 / ISO 27001), DPA and privacy review before onboarding, and annual review of every vendor. | E30: =IF($C30='Auto Responses'!$J$3,VLOOKUP($A30,Questions!$A$2:$X$333,17,0)&"",IF($C30='Auto Responses'!$J$4,VLOOKUP($A30,Questions!$A$2:$X$333,16,0)&"",IF($C30='Auto Responses'!$J$5,VLOOKUP($A30,Questions!$A$2:$X$333,18,0)&"",VLOOKUP($A30,Questions!$A$2:$X$333,15,0)&""))) | F30: =VLOOKUP($A30,'Institution Evaluation'!$A$56:$F$345,6,0)&""
A31: THRD-02 | B31: =VLOOKUP($A31,Questions!$A$2:$X$333,2,0) | C31: Yes | D31: CONFIRM each agreement is executed. Amazon Web Services - hosting (ECS, RDS PostgreSQL, S3, DynamoDB cache), transactional email (SES), secrets (SSM); Clerk - authentication and user directory (names, emails, credentials); OpenAI - AI tutor and authoring features (student code, questions, problem text; no names/emails sent); Stripe - payment processing (email, internal account/invitation IDs; no card data reaches Edugator); PostHog - product analytics and feature flags (user ID, name, email, usage events); Sentry - error monitoring for the backend (request diagnostics); Instructure Canvas - LTI 1.3 roster sync and grade passback at the institution's direction. | E31: =IF($C31='Auto Responses'!$J$3,VLOOKUP($A31,Questions!$A$2:$X$333,17,0)&"",IF($C31='Auto Responses'!$J$4,VLOOKUP($A31,Questions!$A$2:$X$333,16,0)&"",IF($C31='Auto Responses'!$J$5,VLOOKUP($A31,Questions!$A$2:$X$333,18,0)&"",VLOOKUP($A31,Questions!$A$2:$X$333,15,0)&""))) | F31: =VLOOKUP($A31,'Institution Evaluation'!$A$56:$F$345,6,0)&""
A32: THRD-03 | B32: =VLOOKUP($A32,Questions!$A$2:$X$333,2,0) | C32: No | D32: Third-party liability is governed by each provider's standard terms; no negotiated breach-liability clauses. | E32: =IF($C32='Auto Responses'!$J$3,VLOOKUP($A32,Questions!$A$2:$X$333,17,0)&"",IF($C32='Auto Responses'!$J$4,VLOOKUP($A32,Questions!$A$2:$X$333,16,0)&"",IF($C32='Auto Responses'!$J$5,VLOOKUP($A32,Questions!$A$2:$X$333,18,0)&"",VLOOKUP($A32,Questions!$A$2:$X$333,15,0)&""))) | F32: =VLOOKUP($A32,'Institution Evaluation'!$A$56:$F$345,6,0)&""
A33: THRD-04 | B33: =VLOOKUP($A33,Questions!$A$2:$X$333,2,0) | C33: Yes | D33: Edugator internal policies (available on request): Vendor Management policy with a maintained vendor list recording each vendor's purpose, data received, region, security evidence and DPA status. | E33: =IF($C33='Auto Responses'!$J$3,VLOOKUP($A33,Questions!$A$2:$X$333,17,0)&"",IF($C33='Auto Responses'!$J$4,VLOOKUP($A33,Questions!$A$2:$X$333,16,0)&"",IF($C33='Auto Responses'!$J$5,VLOOKUP($A33,Questions!$A$2:$X$333,18,0)&"",VLOOKUP($A33,Questions!$A$2:$X$333,15,0)&""))) | F33: =VLOOKUP($A33,'Institution Evaluation'!$A$56:$F$345,6,0)&""
A34: THRD-05 | B34: =VLOOKUP($A34,Questions!$A$2:$X$333,2,0) | C34: N/A | D34: Edugator operates no hardware of its own; all infrastructure is cloud-hosted on AWS. | E34: =IF($C34='Auto Responses'!$J$3,VLOOKUP($A34,Questions!$A$2:$X$333,17,0)&"",IF($C34='Auto Responses'!$J$4,VLOOKUP($A34,Questions!$A$2:$X$333,16,0)&"",VLOOKUP($A34,Questions!$A$2:$X$333,15,0)&"")) | F34: =VLOOKUP($A34,'Institution Evaluation'!$A$56:$F$345,6,0)&"" | G34: End Table Data
A35: =VLOOKUP(LEFT($A36,4),'Auto Responses'!$N$4:$O$38,2,0)&"" -> Change Management | C35: Answer | D35: Additional Information | E35: Guidance | F35: Analyst Notes
A36: CHNG-01 | B36: =VLOOKUP($A36,Questions!$A$2:$X$333,2,0) | C36: Yes | D36: Institutions will be notified of major changes affecting their security posture. | E36: =IF($C36='Auto Responses'!$J$3,VLOOKUP($A36,Questions!$A$2:$X$333,17,0)&"",IF($C36='Auto Responses'!$J$4,VLOOKUP($A36,Questions!$A$2:$X$333,16,0)&"",VLOOKUP($A36,Questions!$A$2:$X$333,15,0)&"")) | F36: =VLOOKUP($A36,'Institution Evaluation'!$A$56:$F$345,6,0)&""
A37: CHNG-02 | B37: =VLOOKUP($A37,Questions!$A$2:$X$333,2,0) | C37: Yes | D37: Course- and organization-level settings persist across releases (multi-tenant SaaS, single code line). | E37: =IF($C37='Auto Responses'!$J$3,VLOOKUP($A37,Questions!$A$2:$X$333,17,0)&"",IF($C37='Auto Responses'!$J$4,VLOOKUP($A37,Questions!$A$2:$X$333,16,0)&"",IF($C37='Auto Responses'!$J$5,VLOOKUP($A37,Questions!$A$2:$X$333,18,0)&"",VLOOKUP($A37,Questions!$A$2:$X$333,15,0)&""))) | F37: =VLOOKUP($A37,'Institution Evaluation'!$A$56:$F$345,6,0)&""
A38: CHNG-03 | B38: =VLOOKUP($A38,Questions!$A$2:$X$333,2,0) | C38: Yes | D38: Infrastructure defined in Terraform; container images built reproducibly in CI; hosts use AWS ECS-optimized Amazon Linux AMIs with IMDSv2 required. | E38: =IF($C38='Auto Responses'!$J$3,VLOOKUP($A38,Questions!$A$2:$X$333,17,0)&"",IF($C38='Auto Responses'!$J$4,VLOOKUP($A38,Questions!$A$2:$X$333,16,0)&"",IF($C38='Auto Responses'!$J$5,VLOOKUP($A38,Questions!$A$2:$X$333,18,0)&"",VLOOKUP($A38,Questions!$A$2:$X$333,15,0)&""))) | F38: =VLOOKUP($A38,'Institution Evaluation'!$A$56:$F$345,6,0)&""
A39: CHNG-04 | B39: =VLOOKUP($A39,Questions!$A$2:$X$333,2,0) | C39: Yes | D39: Changes go through CI (lint, unit and integration tests) and tagged releases with changes | E39: =IF($C39='Auto Responses'!$J$3,VLOOKUP($A39,Questions!$A$2:$X$333,17,0)&"",IF($C39='Auto Responses'!$J$4,VLOOKUP($A39,Questions!$A$2:$X$333,16,0)&"",VLOOKUP($A39,Questions!$A$2:$X$333,15,0)&"")) | F39: =VLOOKUP($A39,'Institution Evaluation'!$A$56:$F$345,6,0)&""
A40: CHNG-05 | B40: =VLOOKUP($A40,Questions!$A$2:$X$333,2,0) | C40: Yes | D40: Testing and validation happen in CI and a beta environment before production releases with manual testing | E40: =IF($C40='Auto Responses'!$J$3,VLOOKUP($A40,Questions!$A$2:$X$333,17,0)&"",IF($C40='Auto Responses'!$J$4,VLOOKUP($A40,Questions!$A$2:$X$333,16,0)&"",VLOOKUP($A40,Questions!$A$2:$X$333,15,0)&"")) | F40: =VLOOKUP($A40,'Institution Evaluation'!$A$56:$F$345,6,0)&""
...

Sheet Product
A1: Cells contained in this worksheet may contain cells with dropdown lists as well as autopopulated formulas.
A2: HECVAT Solution Provider Response - Product | F2: ='Auto Responses'!$A$36
A3: Date Completed | C3: ='START HERE'!$C$3
A4: Instructions for Solution Providers
A5: =HLOOKUP($A$4,'Auto Responses'!$D$2:$D$8,2,0)&""
A6: =HLOOKUP($A$4,'Auto Responses'!$D$2:$D$8,3,0)&""
A7: =HLOOKUP($A$4,'Auto Responses'!$D$2:$D$8,4,0)&"" -> 3. Guidance in column E may change based on your answers to prompt details in "Additional Information." If leaving an answer blank, you must also state why in "Additional Information".
A8: =HLOOKUP($A$4,'Auto Responses'!$D$2:$D$8,5,0)&""
A9: =HLOOKUP($A$4,'Auto Responses'!$D$2:$D$8,6,0)&""
A10: =HLOOKUP($A$4,'Auto Responses'!$D$2:$D$8,7,0)&""
A11: =HLOOKUP($A$4,'Auto Responses'!$D$2:$D$9,8,0)&""
A12: =VLOOKUP(LEFT($A13,4),'Auto Responses'!$N$4:$O$38,2,0)&"" -> General Information | C12: Answer
A13: GNRL-01 | B13: =VLOOKUP($A13,Questions!$A$2:$X$333,2,0)&"" | C13: =VLOOKUP($A13,'START HERE'!$A$13:$C$21,3,0)&""
A14: GNRL-02 | B14: =VLOOKUP($A14,Questions!$A$2:$X$333,2,0)&"" | C14: =VLOOKUP($A14,'START HERE'!$A$13:$C$21,3,0)&""
A15: GNRL-03 | B15: =VLOOKUP($A15,Questions!$A$2:$X$333,2,0)&"" | C15: =VLOOKUP($A15,'START HERE'!$A$13:$C$21,3,0)&""
A16: GNRL-08 | B16: =VLOOKUP($A16,Questions!$A$2:$X$333,2,0)&"" | C16: =VLOOKUP($A16,'START HERE'!$A$13:$C$21,3,0)&""
A17: =VLOOKUP(LEFT($A18,4),'Auto Responses'!$N$4:$O$38,2,0)&"" -> Required Questions | C17: Answer | E17: Guidance | F17: Analyst Notes
A18: REQU-01 | B18: =VLOOKUP($A18,Questions!$A$2:$X$333,2,0) | C18: =VLOOKUP($A18,'START HERE'!$A$23:$F$36,3,0)&"" | D18: =VLOOKUP($A18,'START HERE'!$A$23:$F$36,4,0)&"" | E18: =IF($C18='Auto Responses'!$J$3,VLOOKUP($A18,Questions!$A$2:$X$333,17,0)&"",IF($C18='Auto Responses'!$J$4,VLOOKUP($A18,Questions!$A$2:$X$333,16,0)&"",VLOOKUP($A18,Questions!$A$2:$X$333,15,0)&"")) | F18: =VLOOKUP($A18,'Institution Evaluation'!$A$56:$F$345,6,0)&"" | G18: End Table Data
A19: =VLOOKUP(LEFT($A20,4),'Auto Responses'!$N$4:$O$38,2,0)&"" -> Authentication, Authorization, and Account Management | C19: Answer | D19: Additional Information | E19: Guidance | F19: Analyst Notes
A20: AAAI-01 | B20: =VLOOKUP($A20,Questions!$A$2:$X$333,2,0) | C20: Yes | D20: SAML 2.0 enterprise SSO via Clerk, and LTI 1.3 launch from Canvas. | E20: =IF($C$18='Auto Responses'!$J$4,'Auto Responses'!$A$3,IF($C20='Auto Responses'!$J$3,VLOOKUP($A20,Questions!$A$2:$X$333,17,0)&"",IF($C20='Auto Responses'!$J$4,VLOOKUP($A20,Questions!$A$2:$X$333,16,0)&"",VLOOKUP($A20,Questions!$A$2:$X$333,15,0)&""))) | F20: =VLOOKUP($A20,'Institution Evaluation'!$A$56:$F$345,6,0)&""
A21: AAAI-02 | B21: =VLOOKUP($A21,Questions!$A$2:$X$333,2,0) | C21: Yes | D21: Email and password accounts managed by Clerk, with email verification. | E21: =IF($C21='Auto Responses'!$J$3,VLOOKUP($A21,Questions!$A$2:$X$333,17,0)&"",IF($C21='Auto Responses'!$J$4,VLOOKUP($A21,Questions!$A$2:$X$333,16,0)&"",IF($C21='Auto Responses'!$J$5,VLOOKUP($A21,Questions!$A$2:$X$333,18,0)&"",VLOOKUP($A21,Questions!$A$2:$X$333,15,0)&""))) | F21: =VLOOKUP($A21,'Institution Evaluation'!$A$56:$F$345,6,0)&""
A22: AAAI-03 | B22: =VLOOKUP($A22,Questions!$A$2:$X$333,2,0) | C22: Yes | D22: Password policy (minimum length, breached-password detection) is configured in Clerk. CONFIRM institution-specific rules can be applied. | E22: =IF($C22='Auto Responses'!$J$3,VLOOKUP($A22,Questions!$A$2:$X$333,17,0)&"",IF($C22='Auto Responses'!$J$4,VLOOKUP($A22,Questions!$A$2:$X$333,16,0)&"",IF($C22='Auto Responses'!$J$5,VLOOKUP($A22,Questions!$A$2:$X$333,18,0)&"",VLOOKUP($A22,Questions!$A$2:$X$333,15,0)&""))) | F22: =VLOOKUP($A22,'Institution Evaluation'!$A$56:$F$345,6,0)&""
A23: AAAI-04 | B23: =VLOOKUP($A23,Questions!$A$2:$X$333,2,0) | C23: Yes | D23: Clerk enforces 8-72 character passwords. | E23: =IF($C23='Auto Responses'!$J$3,VLOOKUP($A23,Questions!$A$2:$X$333,17,0)&"",IF($C23='Auto Responses'!$J$4,VLOOKUP($A23,Questions!$A$2:$X$333,16,0)&"",IF($C23='Auto Responses'!$J$5,VLOOKUP($A23,Questions!$A$2:$X$333,18,0)&"",VLOOKUP($A23,Questions!$A$2:$X$333,15,0)&""))) | F23: =VLOOKUP($A23,'Institution Evaluation'!$A$56:$F$345,6,0)&""
A24: AAAI-05 | B24: =VLOOKUP($A24,Questions!$A$2:$X$333,2,0) | C24: Yes | D24: Self-service reset via emailed verification code (Clerk). | E24: =IF($C24='Auto Responses'!$J$3,VLOOKUP($A24,Questions!$A$2:$X$333,17,0)&"",IF($C24='Auto Responses'!$J$4,VLOOKUP($A24,Questions!$A$2:$X$333,16,0)&"",IF($C24='Auto Responses'!$J$5,VLOOKUP($A24,Questions!$A$2:$X$333,18,0)&"",VLOOKUP($A24,Questions!$A$2:$X$333,15,0)&""))) | F24: =VLOOKUP($A24,'Institution Evaluation'!$A$56:$F$345,6,0)&""
A25: AAAI-06 | B25: =VLOOKUP($A25,Questions!$A$2:$X$333,2,0) | C25: No | E25: =IF($C$18='Auto Responses'!$J$4,'Auto Responses'!$A$3,IF($C25='Auto Responses'!$J$3,VLOOKUP($A25,Questions!$A$2:$X$333,17,0)&"",IF($C25='Auto Responses'!$J$4,VLOOKUP($A25,Questions!$A$2:$X$333,16,0)&"",VLOOKUP($A25,Questions!$A$2:$X$333,15,0)&""))) | F25: =VLOOKUP($A25,'Institution Evaluation'!$A$56:$F$345,6,0)&""
A26: AAAI-07 | B26: =VLOOKUP($A26,Questions!$A$2:$X$333,2,0) | C26: No | D26: No passwords are hard-coded | E26: =IF($C$18='Auto Responses'!$J$4,'Auto Responses'!$A$3,IF($C26='Auto Responses'!$J$3,VLOOKUP($A26,Questions!$A$2:$X$333,17,0)&"",IF($C26='Auto Responses'!$J$4,VLOOKUP($A26,Questions!$A$2:$X$333,16,0)&"",VLOOKUP($A26,Questions!$A$2:$X$333,15,0)&""))) | F26: =VLOOKUP($A26,'Institution Evaluation'!$A$56:$F$345,6,0)&""
A27: AAAI-08 | B27: =VLOOKUP($A27,Questions!$A$2:$X$333,2,0) | C27: No | D27: User passwords are stored only by Clerk (hashed) | E27: =IF($C$18='Auto Responses'!$J$4,'Auto Responses'!$A$3,IF($C27='Auto Responses'!$J$3,VLOOKUP($A27,Questions!$A$2:$X$333,17,0)&"",IF($C27='Auto Responses'!$J$4,VLOOKUP($A27,Questions!$A$2:$X$333,16,0)&"",VLOOKUP($A27,Questions!$A$2:$X$333,15,0)&""))) | F27: =VLOOKUP($A27,'Institution Evaluation'!$A$56:$F$345,6,0)&""
A28: AAAI-09 | B28: =VLOOKUP($A28,Questions!$A$2:$X$333,2,0) | C28: No | E28: =IF($C$18='Auto Responses'!$J$4,'Auto Responses'!$A$3,IF($C28='Auto Responses'!$J$3,VLOOKUP($A28,Questions!$A$2:$X$333,17,0)&"",IF($C28='Auto Responses'!$J$4,VLOOKUP($A28,Questions!$A$2:$X$333,16,0)&"",VLOOKUP($A28,Questions!$A$2:$X$333,15,0)&""))) | F28: =VLOOKUP($A28,'Institution Evaluation'!$A$56:$F$345,6,0)&""
A29: AAAI-10 | B29: =VLOOKUP($A29,Questions!$A$2:$X$333,2,0) | C29: Application logs (JSON) are written to Amazon CloudWatch with request ID, method, path and authenticated user ID. Authentication events and sessions are recorded by Clerk. Infrastructure changes are recorded through Terraform in version control and AWS CloudTrail. There is no dedicated audit log of authorization changes (e.g., role changes) within the application. | E29: =IF($C$18='Auto Responses'!$J$4,'Auto Responses'!$A$3,IF($C29='Auto Responses'!$J$3,VLOOKUP($A29,Questions!$A$2:$X$333,17,0)&"",IF($C29='Auto Responses'!$J$4,VLOOKUP($A29,Questions!$A$2:$X$333,16,0)&"",VLOOKUP($A29,Questions!$A$2:$X$333,15,0)&""))) | F29: =VLOOKUP($A29,'Institution Evaluation'!$A$56:$F$345,6,0)&""
A30: AAAI-11 | B30: =VLOOKUP($A30,Questions!$A$2:$X$333,2,0) | C30: Yes | D30: Application logs are retained 14-30 days in CloudWatch, access-restricted to Edugator AWS administrators, and not directly accessible to institutions. | E30: =IF($C$18='Auto Responses'!$J$4,'Auto Responses'!$A$3,IF($C30='Auto Responses'!$J$3,VLOOKUP($A30,Questions!$A$2:$X$333,17,0)&"",IF($C30='Auto Responses'!$J$4,VLOOKUP($A30,Questions!$A$2:$X$333,16,0)&"",VLOOKUP($A30,Questions!$A$2:$X$333,15,0)&""))) | F30: =VLOOKUP($A30,'Institution Evaluation'!$A$56:$F$345,6,0)&""
A31: AAAI-12 | B31: =VLOOKUP($A31,Questions!$A$2:$X$333,2,0) | C31: Yes | D31: LTI 1.3 (Canvas) and SAML 2.0 via Clerk. | E31: =IF($C$18='Auto Responses'!$J$4,'Auto Responses'!$A$3,IF($C31='Auto Responses'!$J$3,VLOOKUP($A31,Questions!$A$2:$X$333,17,0)&"",IF($C31='Auto Responses'!$J$4,VLOOKUP($A31,Questions!$A$2:$X$333,16,0)&"",VLOOKUP($A31,Questions!$A$2:$X$333,15,0)&""))) | F31: =VLOOKUP($A31,'Institution Evaluation'!$A$56:$F$345,6,0)&""
A32: AAAI-13 | B32: =VLOOKUP($A32,Questions!$A$2:$X$333,2,0) | C32: No | E32: =IF($C$18='Auto Responses'!$J$4,'Auto Responses'!$A$3,IF($C32='Auto Responses'!$J$3,VLOOKUP($A32,Questions!$A$2:$X$333,17,0)&"",IF($C32='Auto Responses'!$J$4,VLOOKUP($A32,Questions!$A$2:$X$333,16,0)&"",VLOOKUP($A32,Questions!$A$2:$X$333,15,0)&""))) | F32: =VLOOKUP($A32,'Institution Evaluation'!$A$56:$F$345,6,0)&""
A33: AAAI-14 | B33: =VLOOKUP($A33,Questions!$A$2:$X$333,2,0) | C33: No | D33: No LDAP/SCIM directory integration; rosters sync from Canvas via LTI Names and Roles. | E33: =IF($C33='Auto Responses'!$J$3,VLOOKUP($A33,Questions!$A$2:$X$333,17,0)&"",IF($C33='Auto Responses'!$J$4,VLOOKUP($A33,Questions!$A$2:$X$333,16,0)&"",IF($C33='Auto Responses'!$J$5,VLOOKUP($A33,Questions!$A$2:$X$333,18,0)&"",VLOOKUP($A33,Questions!$A$2:$X$333,15,0)&""))) | F33: =VLOOKUP($A33,'Institution Evaluation'!$A$56:$F$345,6,0)&""
A34: AAAI-15 | B34: =VLOOKUP($A34,Questions!$A$2:$X$333,2,0) | C34: Yes | D34: SAML 2.0 (via Clerk) and OIDC-based LTI 1.3. | E34: =IF($C$18='Auto Responses'!$J$4,'Auto Responses'!$A$3,IF($C34='Auto Responses'!$J$3,VLOOKUP($A34,Questions!$A$2:$X$333,17,0)&"",IF($C34='Auto Responses'!$J$4,VLOOKUP($A34,Questions!$A$2:$X$333,16,0)&"",VLOOKUP($A34,Questions!$A$2:$X$333,15,0)&""))) | F34: =VLOOKUP($A34,'Institution Evaluation'!$A$56:$F$345,6,0)&""
A35: AAAI-16 | B35: =VLOOKUP($A35,Questions!$A$2:$X$333,2,0) | C35: Yes | D35: Users have an immutable Clerk user ID separate from email. Note: LTI launches match Canvas users to Edugator accounts by email address. | E35: =IF($C$18='Auto Responses'!$J$4,'Auto Responses'!$A$3,IF($C35='Auto Responses'!$J$3,VLOOKUP($A35,Questions!$A$2:$X$333,17,0)&"",IF($C35='Auto Responses'!$J$4,VLOOKUP($A35,Questions!$A$2:$X$333,16,0)&"",VLOOKUP($A35,Questions!$A$2:$X$333,15,0)&""))) | F35: =VLOOKUP($A35,'Institution Evaluation'!$A$56:$F$345,6,0)&""
A36: AAAI-17 | B36: =VLOOKUP($A36,Questions!$A$2:$X$333,2,0) | C36: No | E36: =IF($C36='Auto Responses'!$J$3,VLOOKUP($A36,Questions!$A$2:$X$333,17,0)&"",IF($C36='Auto Responses'!$J$4,VLOOKUP($A36,Questions!$A$2:$X$333,16,0)&"",IF($C36='Auto Responses'!$J$5,VLOOKUP($A36,Questions!$A$2:$X$333,18,0)&"",VLOOKUP($A36,Questions!$A$2:$X$333,15,0)&""))) | F36: =VLOOKUP($A36,'Institution Evaluation'!$A$56:$F$345,6,0)&""
A37: AAAI-18 | B37: =VLOOKUP($A37,Questions!$A$2:$X$333,2,0) | C37: No | D37: CONFIRM Clerk session lifetime / inactivity timeout settings. | E37: =IF($C$18='Auto Responses'!$J$4,'Auto Responses'!$A$3,IF($C37='Auto Responses'!$J$3,VLOOKUP($A37,Questions!$A$2:$X$333,17,0)&"",IF($C37='Auto Responses'!$J$4,VLOOKUP($A37,Questions!$A$2:$X$333,16,0)&"",VLOOKUP($A37,Questions!$A$2:$X$333,15,0)&""))) | F37: =VLOOKUP($A37,'Institution Evaluation'!$A$56:$F$345,6,0)&"" | G37: End Table Data
A38: =VLOOKUP(LEFT($A39,4),'Auto Responses'!$N$4:$O$38,2,0)&"" -> Data | C38: Answer | D38: Additional Information | E38: Guidance | F38: Analyst Notes
A39: DATA-01 | B39: =VLOOKUP($A39,Questions!$A$2:$X$333,2,0) | C39: Yes | E39: =IF($C$18='Auto Responses'!$J$4,'Auto Responses'!$A$3,IF($C39='Auto Responses'!$J$3,VLOOKUP($A39,Questions!$A$2:$X$333,17,0)&"",IF($C39='Auto Responses'!$J$4,VLOOKUP($A39,Questions!$A$2:$X$333,16,0)&"",VLOOKUP($A39,Questions!$A$2:$X$333,15,0)&""))) | F39: =VLOOKUP($A39,'Institution Evaluation'!$A$56:$F$345,6,0)&""
A40: DATA-02 | B40: =VLOOKUP($A40,Questions!$A$2:$X$333,2,0) | C40: Yes | D40: TLS 1.2/1.3 between clients and AWS load balancers/CloudFront. Database connections use TLS (enforced with certificate verification for the legacy service; negotiated for the new service). | E40: =IF($C$18='Auto Responses'!$J$4,'Auto Responses'!$A$3,IF($C40='Auto Responses'!$J$3,VLOOKUP($A40,Questions!$A$2:$X$333,17,0)&"",IF($C40='Auto Responses'!$J$4,VLOOKUP($A40,Questions!$A$2:$X$333,16,0)&"",VLOOKUP($A40,Questions!$A$2:$X$333,15,0)&""))) | F40: =VLOOKUP($A40,'Institution Evaluation'!$A$56:$F$345,6,0)&""
...

Sheet Infrastructure
A1: Cells contained in this worksheet may contain cells with dropdown lists as well as autopopulated formulas.
A2: HECVAT Solution Provider Response - Infrastructure | F2: ='Auto Responses'!$A$36
A3: Date Completed | C3: ='START HERE'!$C$3
A4: Instructions for Solution Providers
A5: =HLOOKUP($A$4,'Auto Responses'!$D$2:$D$8,2,0)&""
A6: =HLOOKUP($A$4,'Auto Responses'!$D$2:$D$8,3,0)&""
A7: =HLOOKUP($A$4,'Auto Responses'!$D$2:$D$8,4,0)&"" -> 3. Guidance in column E may change based on your answers to prompt details in "Additional Information." If leaving an answer blank, you must also state why in "Additional Information".
A8: =HLOOKUP($A$4,'Auto Responses'!$D$2:$D$8,5,0)&""
A9: =HLOOKUP($A$4,'Auto Responses'!$D$2:$D$8,6,0)&""
A10: =HLOOKUP($A$4,'Auto Responses'!$D$2:$D$8,7,0)&""
A11: =HLOOKUP($A$4,'Auto Responses'!$D$2:$D$9,8,0)&""
A12: =VLOOKUP(LEFT($A13,4),'Auto Responses'!$N$4:$O$38,2,0)&"" -> General Information | C12: Answer
A13: GNRL-01 | B13: =VLOOKUP($A13,Questions!$A$2:$X$333,2,0)&"" | C13: =VLOOKUP($A13,'START HERE'!$A$13:$C$21,3,0)&""
A14: GNRL-02 | B14: =VLOOKUP($A14,Questions!$A$2:$X$333,2,0)&"" | C14: =VLOOKUP($A14,'START HERE'!$A$13:$C$21,3,0)&""
A15: GNRL-03 | B15: =VLOOKUP($A15,Questions!$A$2:$X$333,2,0)&"" | C15: =VLOOKUP($A15,'START HERE'!$A$13:$C$21,3,0)&""
A16: GNRL-08 | B16: =VLOOKUP($A16,Questions!$A$2:$X$333,2,0)&"" | C16: =VLOOKUP($A16,'START HERE'!$A$13:$C$21,3,0)&""
A17: =VLOOKUP(LEFT($A18,4),'Auto Responses'!$N$4:$O$38,2,0)&"" -> Required Questions | C17: Answer | E17: Guidance | F17: Analyst Notes
A18: REQU-01 | B18: =VLOOKUP($A18,Questions!$A$2:$X$333,2,0) | C18: =VLOOKUP($A18,'START HERE'!$A$23:$F$36,3,0)&"" | D18: =VLOOKUP($A18,'START HERE'!$A$23:$F$36,4,0)&"" | E18: =IF($C18='Auto Responses'!$J$3,VLOOKUP($A18,Questions!$A$2:$X$333,17,0)&"",IF($C18='Auto Responses'!$J$4,VLOOKUP($A18,Questions!$A$2:$X$333,16,0)&"",VLOOKUP($A18,Questions!$A$2:$X$333,15,0)&"")) | F18: =VLOOKUP($A18,'Institution Evaluation'!$A$56:$F$345,6,0)&"" | G18: End Table Data
A19: =VLOOKUP(LEFT($A20,4),'Auto Responses'!$N$4:$O$38,2,0)&"" -> Application/Service Security | C19: Answer | D19: Additional Information | E19: Guidance | F19: Analyst Notes
A20: APPL-01 | B20: =VLOOKUP($A20,Questions!$A$2:$X$333,2,0) | C20: Yes | D20: Role-based: platform admin, organization owner, course instructor, teaching assistant, student. | E20: =IF($C$18='Auto Responses'!$J$4,'Auto Responses'!$A$3,IF($C20='Auto Responses'!$J$3,VLOOKUP($A20,Questions!$A$2:$X$333,17,0)&"",IF($C20='Auto Responses'!$J$4,VLOOKUP($A20,Questions!$A$2:$X$333,16,0)&"",VLOOKUP($A20,Questions!$A$2:$X$333,15,0)&""))) | F20: =VLOOKUP($A20,'Institution Evaluation'!$A$56:$F$345,6,0)&""
A21: APPL-02 | B21: =VLOOKUP($A21,Questions!$A$2:$X$333,2,0) | C21: No | E21: =IF($C$18='Auto Responses'!$J$4,'Auto Responses'!$A$3,IF($C21='Auto Responses'!$J$3,VLOOKUP($A21,Questions!$A$2:$X$333,17,0)&"",IF($C21='Auto Responses'!$J$4,VLOOKUP($A21,Questions!$A$2:$X$333,16,0)&"",VLOOKUP($A21,Questions!$A$2:$X$333,15,0)&""))) | F21: =VLOOKUP($A21,'Institution Evaluation'!$A$56:$F$345,6,0)&""
A22: APPL-03 | B22: =VLOOKUP($A22,Questions!$A$2:$X$333,2,0) | C22: No | E22: =IF($C$18='Auto Responses'!$J$4,'Auto Responses'!$A$3,IF($C22='Auto Responses'!$J$3,VLOOKUP($A22,Questions!$A$2:$X$333,17,0)&"",IF($C22='Auto Responses'!$J$4,VLOOKUP($A22,Questions!$A$2:$X$333,16,0)&"",VLOOKUP($A22,Questions!$A$2:$X$333,15,0)&""))) | F22: =VLOOKUP($A22,'Institution Evaluation'!$A$56:$F$345,6,0)&""
A23: APPL-04 | B23: =VLOOKUP($A23,Questions!$A$2:$X$333,2,0) | C23: No | E23: =IF($C$18='Auto Responses'!$J$4,'Auto Responses'!$A$3,IF($C23='Auto Responses'!$J$3,VLOOKUP($A23,Questions!$A$2:$X$333,17,0)&"",IF($C23='Auto Responses'!$J$4,VLOOKUP($A23,Questions!$A$2:$X$333,16,0)&"",VLOOKUP($A23,Questions!$A$2:$X$333,15,0)&""))) | F23: =VLOOKUP($A23,'Institution Evaluation'!$A$56:$F$345,6,0)&""
A24: APPL-05 | B24: =VLOOKUP($A24,Questions!$A$2:$X$333,2,0) | C24: Yes | D24: Platform administration, course administration (instructor/TA) and student functions are separate roles. | E24: =IF($C$18='Auto Responses'!$J$4,'Auto Responses'!$A$3,IF($C24='Auto Responses'!$J$3,VLOOKUP($A24,Questions!$A$2:$X$333,17,0)&"",IF($C24='Auto Responses'!$J$4,VLOOKUP($A24,Questions!$A$2:$X$333,16,0)&"",VLOOKUP($A24,Questions!$A$2:$X$333,15,0)&""))) | F24: =VLOOKUP($A24,'Institution Evaluation'!$A$56:$F$345,6,0)&""
A25: APPL-06 | B25: =VLOOKUP($A25,Questions!$A$2:$X$333,2,0) | C25: No | E25: =IF($C$18='Auto Responses'!$J$4,'Auto Responses'!$A$3,IF($C25='Auto Responses'!$J$3,VLOOKUP($A25,Questions!$A$2:$X$333,17,0)&"",IF($C25='Auto Responses'!$J$4,VLOOKUP($A25,Questions!$A$2:$X$333,16,0)&"",VLOOKUP($A25,Questions!$A$2:$X$333,15,0)&""))) | F25: =VLOOKUP($A25,'Institution Evaluation'!$A$56:$F$345,6,0)&""
A26: APPL-07 | B26: =VLOOKUP($A26,Questions!$A$2:$X$333,2,0) | C26: Yes | D26: Unit, integration (containerized PostgreSQL) and end-to-end (Playwright) tests run in CI on every pull request. | E26: =IF($C$18='Auto Responses'!$J$4,'Auto Responses'!$A$3,IF($C26='Auto Responses'!$J$3,VLOOKUP($A26,Questions!$A$2:$X$333,17,0)&"",IF($C26='Auto Responses'!$J$4,VLOOKUP($A26,Questions!$A$2:$X$333,16,0)&"",VLOOKUP($A26,Questions!$A$2:$X$333,15,0)&""))) | F26: =VLOOKUP($A26,'Institution Evaluation'!$A$56:$F$345,6,0)&""
A27: APPL-08 | B27: =VLOOKUP($A27,Questions!$A$2:$X$333,2,0) | C27: No | E27: =IF($C$18='Auto Responses'!$J$4,'Auto Responses'!$A$3,IF($C27='Auto Responses'!$J$3,VLOOKUP($A27,Questions!$A$2:$X$333,17,0)&"",IF($C27='Auto Responses'!$J$4,VLOOKUP($A27,Questions!$A$2:$X$333,16,0)&"",VLOOKUP($A27,Questions!$A$2:$X$333,15,0)&""))) | F27: =VLOOKUP($A27,'Institution Evaluation'!$A$56:$F$345,6,0)&""
A28: APPL-09 | B28: =VLOOKUP($A28,Questions!$A$2:$X$333,2,0) | C28: Yes | D28: Request bodies are validated server-side and return structured error messages. | E28: =IF($C$18='Auto Responses'!$J$4,'Auto Responses'!$A$3,IF($C28='Auto Responses'!$J$3,VLOOKUP($A28,Questions!$A$2:$X$333,17,0)&"",IF($C28='Auto Responses'!$J$4,VLOOKUP($A28,Questions!$A$2:$X$333,16,0)&"",VLOOKUP($A28,Questions!$A$2:$X$333,15,0)&""))) | F28: =VLOOKUP($A28,'Institution Evaluation'!$A$56:$F$345,6,0)&""
A29: APPL-10 | B29: =VLOOKUP($A29,Questions!$A$2:$X$333,2,0) | C29: No | E29: =IF($C$18='Auto Responses'!$J$4,'Auto Responses'!$A$3,IF($C29='Auto Responses'!$J$3,VLOOKUP($A29,Questions!$A$2:$X$333,17,0)&"",IF($C29='Auto Responses'!$J$4,VLOOKUP($A29,Questions!$A$2:$X$333,16,0)&"",VLOOKUP($A29,Questions!$A$2:$X$333,15,0)&""))) | F29: =VLOOKUP($A29,'Institution Evaluation'!$A$56:$F$345,6,0)&""
A30: APPL-11 | B30: =VLOOKUP($A30,Questions!$A$2:$X$333,2,0) | C30: No | E30: =IF($C$18='Auto Responses'!$J$4,'Auto Responses'!$A$3,IF($C30='Auto Responses'!$J$3,VLOOKUP($A30,Questions!$A$2:$X$333,17,0)&"",IF($C30='Auto Responses'!$J$4,VLOOKUP($A30,Questions!$A$2:$X$333,16,0)&"",VLOOKUP($A30,Questions!$A$2:$X$333,15,0)&""))) | F30: =VLOOKUP($A30,'Institution Evaluation'!$A$56:$F$345,6,0)&""
A31: APPL-12 | B31: =VLOOKUP($A31,Questions!$A$2:$X$333,2,0) | C31: No | D31: No formal secure coding standard. Practices in use include parameterized SQL, server-side authorization, and TLS everywhere. | E31: =IF($C$18='Auto Responses'!$J$4,'Auto Responses'!$A$3,IF($C31='Auto Responses'!$J$3,VLOOKUP($A31,Questions!$A$2:$X$333,17,0)&"",IF($C31='Auto Responses'!$J$4,VLOOKUP($A31,Questions!$A$2:$X$333,16,0)&"",VLOOKUP($A31,Questions!$A$2:$X$333,15,0)&""))) | F31: =VLOOKUP($A31,'Institution Evaluation'!$A$56:$F$345,6,0)&""
A32: APPL-13 | B32: =VLOOKUP($A32,Questions!$A$2:$X$333,2,0) | C32: N/A | D32: Web application only; no mobile app. | E32: =IF($C$18='Auto Responses'!$J$4,'Auto Responses'!$A$3,IF($C32='Auto Responses'!$J$3,VLOOKUP($A32,Questions!$A$2:$X$333,17,0)&"",IF($C32='Auto Responses'!$J$4,VLOOKUP($A32,Questions!$A$2:$X$333,16,0)&"",IF($C32='Auto Responses'!$J$5,VLOOKUP($A32,Questions!$A$2:$X$333,18,0)&"",VLOOKUP($A32,Questions!$A$2:$X$333,15,0)&"")))) | F32: =VLOOKUP($A32,'Institution Evaluation'!$A$56:$F$345,6,0)&""
A33: APPL-14 | B33: =VLOOKUP($A33,Questions!$A$2:$X$333,2,0) | C33: Yes | D33: Administrative access is granted only by the security owner (Marc Diaz, Founder), on least privilege, with MFA required and quarterly access reviews (Information Security Policy §4). | E33: =IF($C$18='Auto Responses'!$J$4,'Auto Responses'!$A$3,IF($C33='Auto Responses'!$J$3,VLOOKUP($A33,Questions!$A$2:$X$333,17,0)&"",IF($C33='Auto Responses'!$J$4,VLOOKUP($A33,Questions!$A$2:$X$333,16,0)&"",VLOOKUP($A33,Questions!$A$2:$X$333,15,0)&""))) | F33: =VLOOKUP($A33,'Institution Evaluation'!$A$56:$F$345,6,0)&"" | G33: End Table Data
A34: =VLOOKUP(LEFT($A35,4),'Auto Responses'!$N$4:$O$38,2,0)&"" -> Datacenter | C34: Answer | D34: Additional Information | E34: Guidance | F34: Analyst Notes
A35: DCTR-01 | B35: =VLOOKUP($A35,Questions!$A$2:$X$333,2,0) | C35: AWS | D35: Amazon Web Services, us-east-1. | E35: =IF(OR($C35="",$C35="Other"),VLOOKUP($A35,Questions!$A$2:$X$333,15,0),"")&"" | F35: =VLOOKUP($A35,'Institution Evaluation'!$A$56:$F$345,6,0)&""
A36: DCTR-02 | B36: =VLOOKUP($A36,Questions!$A$2:$X$333,2,0) | C36: Yes | D36: AWS SOC 2 Type 2 is available via AWS Artifact. | E36: =IF($C$35="","",IF(OR($C$35='Auto Responses'!$J$20,$C$35='Auto Responses'!$J$21,$C$35='Auto Responses'!$J$22),'Auto Responses'!$A$26,IF($C36='Auto Responses'!$J$3,VLOOKUP($A36,Questions!$A$2:$X$333,17,0)&"",IF($C36='Auto Responses'!$J$4,VLOOKUP($A36,Questions!$A$2:$X$333,16,0)&"",VLOOKUP($A36,Questions!$A$2:$X$333,15,0)&"")))) | F36: =VLOOKUP($A36,'Institution Evaluation'!$A$56:$F$345,6,0)&""
A37: DCTR-03 | B37: =VLOOKUP($A37,Questions!$A$2:$X$333,2,0) | C37: Yes | D37: All data is stored in the United States (AWS us-east-1). | E37: =IF($C$35="","",IF($C37='Auto Responses'!$J$3,VLOOKUP($A37,Questions!$A$2:$X$333,17,0)&"",IF($C37='Auto Responses'!$J$4,VLOOKUP($A37,Questions!$A$2:$X$333,16,0)&"",VLOOKUP($A37,Questions!$A$2:$X$333,15,0)&""))) | F37: =VLOOKUP($A37,'Institution Evaluation'!$A$56:$F$345,6,0)&""
A38: DCTR-04 | B38: =VLOOKUP($A38,Questions!$A$2:$X$333,2,0) | C38: Yes | D38: AWS. | E38: =IF($C$35="","",IF(OR($C$35='Auto Responses'!$J$20,$C$35='Auto Responses'!$J$21,$C$35='Auto Responses'!$J$22),'Auto Responses'!$A$26,IF($C38='Auto Responses'!$J$3,VLOOKUP($A38,Questions!$A$2:$X$333,17,0)&"",IF($C38='Auto Responses'!$J$4,VLOOKUP($A38,Questions!$A$2:$X$333,16,0)&"",VLOOKUP($A38,Questions!$A$2:$X$333,15,0)&"")))) | F38: =VLOOKUP($A38,'Institution Evaluation'!$A$56:$F$345,6,0)&""
A39: DCTR-05 | B39: =VLOOKUP($A39,Questions!$A$2:$X$333,2,0) | C39: Yes | D39: AWS. | E39: =IF($C$35="","",IF(OR($C$35='Auto Responses'!$J$17,$C$35='Auto Responses'!$J$19,$C$35='Auto Responses'!$J$20,$C$35='Auto Responses'!$J$21,$C$35='Auto Responses'!$J$22),'Auto Responses'!$A$26,IF($C39='Auto Responses'!$J$3,VLOOKUP($A39,Questions!$A$2:$X$333,17,0)&"",IF($C39='Auto Responses'!$J$4,VLOOKUP($A39,Questions!$A$2:$X$333,16,0)&"",VLOOKUP($A39,Questions!$A$2:$X$333,15,0)&"")))) | F39: =VLOOKUP($A39,'Institution Evaluation'!$A$56:$F$345,6,0)&""
A40: DCTR-06 | B40: =VLOOKUP($A40,Questions!$A$2:$X$333,2,0) | C40: Yes | D40: AWS. | E40: =IF($C$35="","",IF(OR($C$35='Auto Responses'!$J$19,$C$35='Auto Responses'!$J$20,$C$35='Auto Responses'!$J$21,$C$35='Auto Responses'!$J$22),'Auto Responses'!$A$26,IF($C40='Auto Responses'!$J$3,VLOOKUP($A40,Questions!$A$2:$X$333,17,0)&"",IF($C40='Auto Responses'!$J$4,VLOOKUP($A40,Questions!$A$2:$X$333,16,0)&"",VLOOKUP($A40,Questions!$A$2:$X$333,15,0)&"")))) | F40: =VLOOKUP($A40,'Institution Evaluation'!$A$56:$F$345,6,0)&""
...

Sheet IT Accessibility
A1: Cells contained in this worksheet may contain cells with dropdown lists as well as autopopulated formulas.
A2: HECVAT Solution Provider Response - IT Accessibility | F2: ='Auto Responses'!$A$36
A3: Date Completed | C3: ='START HERE'!$C$3
A4: Instructions for Solution Providers
A5: =HLOOKUP($A$4,'Auto Responses'!$D$2:$D$8,2,0)&""
A6: =HLOOKUP($A$4,'Auto Responses'!$D$2:$D$8,3,0)&""
A7: =HLOOKUP($A$4,'Auto Responses'!$D$2:$D$8,4,0)&"" -> 3. Guidance in column E may change based on your answers to prompt details in "Additional Information." If leaving an answer blank, you must also state why in "Additional Information".
A8: =HLOOKUP($A$4,'Auto Responses'!$D$2:$D$8,5,0)&""
A9: =HLOOKUP($A$4,'Auto Responses'!$D$2:$D$8,6,0)&""
A10: =HLOOKUP($A$4,'Auto Responses'!$D$2:$D$8,7,0)&""
A11: =HLOOKUP($A$4,'Auto Responses'!$D$2:$D$9,8,0)&""
A12: =VLOOKUP(LEFT($A13,4),'Auto Responses'!$N$4:$O$38,2,0)&"" -> General Information | C12: Answer
A13: GNRL-01 | B13: =VLOOKUP($A13,Questions!$A$2:$X$333,2,0)&"" | C13: =VLOOKUP($A13,'START HERE'!$A$13:$C$21,3,0)&""
A14: GNRL-02 | B14: =VLOOKUP($A14,Questions!$A$2:$X$333,2,0)&"" | C14: =VLOOKUP($A14,'START HERE'!$A$13:$C$21,3,0)&""
A15: GNRL-03 | B15: =VLOOKUP($A15,Questions!$A$2:$X$333,2,0)&"" | C15: =VLOOKUP($A15,'START HERE'!$A$13:$C$21,3,0)&""
A16: GNRL-08 | B16: =VLOOKUP($A16,Questions!$A$2:$X$333,2,0)&"" | C16: =VLOOKUP($A16,'START HERE'!$A$13:$C$21,3,0)&""
A17: =VLOOKUP(LEFT($A18,4),'Auto Responses'!$N$4:$O$38,2,0)&"" -> Required Questions | C17: Answer | E17: Guidance | F17: Analyst Notes
A18: REQU-02 | B18: =VLOOKUP($A18,Questions!$A$2:$X$333,2,0) | C18: =VLOOKUP($A18,'START HERE'!$A$23:$F$36,3,0)&"" | D18: =VLOOKUP($A18,'START HERE'!$A$23:$F$36,4,0)&"" | E18: =IF($C18='Auto Responses'!$J$3,VLOOKUP($A18,Questions!$A$2:$X$333,17,0)&"",IF($C18='Auto Responses'!$J$4,VLOOKUP($A18,Questions!$A$2:$X$333,16,0)&"",VLOOKUP($A18,Questions!$A$2:$X$333,15,0)&"")) | F18: =VLOOKUP($A18,'Institution Evaluation'!$A$56:$F$345,6,0)&"" | G18: End Table Data
A19: =VLOOKUP(LEFT($A20,4),'Auto Responses'!$N$4:$O$38,2,0)&"" -> IT Accessibility | C19: Answer | D19: Additional Information | E19: Guidance | F19: Analyst Notes
A20: ITAC-01 | B20: =VLOOKUP($A20,Questions!$A$2:$X$333,2,0) | C20: Marc Diaz | E20: =IF($C$18='Auto Responses'!$J$4,'Auto Responses'!$A$4,IF($C20='Auto Responses'!$J$3,VLOOKUP($A20,Questions!$A$2:$X$333,17,0)&"",IF($C20='Auto Responses'!$J$4,VLOOKUP($A20,Questions!$A$2:$X$333,16,0)&"",VLOOKUP($A20,Questions!$A$2:$X$333,15,0)&""))) | F20: =VLOOKUP($A20,'Institution Evaluation'!$A$56:$F$345,6,0)&""
A21: ITAC-02 | B21: =VLOOKUP($A21,Questions!$A$2:$X$333,2,0) | C21: Founder | E21: =IF($C$18='Auto Responses'!$J$4,'Auto Responses'!$A$4,IF($C21='Auto Responses'!$J$3,VLOOKUP($A21,Questions!$A$2:$X$333,17,0)&"",IF($C21='Auto Responses'!$J$4,VLOOKUP($A21,Questions!$A$2:$X$333,16,0)&"",VLOOKUP($A21,Questions!$A$2:$X$333,15,0)&""))) | F21: =VLOOKUP($A21,'Institution Evaluation'!$A$56:$F$345,6,0)&""
A22: ITAC-03 | B22: =VLOOKUP($A22,Questions!$A$2:$X$333,2,0) | C22: marc@edugator.app | E22: =IF($C$18='Auto Responses'!$J$4,'Auto Responses'!$A$4,IF($C22='Auto Responses'!$J$3,VLOOKUP($A22,Questions!$A$2:$X$333,17,0)&"",IF($C22='Auto Responses'!$J$4,VLOOKUP($A22,Questions!$A$2:$X$333,16,0)&"",VLOOKUP($A22,Questions!$A$2:$X$333,15,0)&""))) | F22: =VLOOKUP($A22,'Institution Evaluation'!$A$56:$F$345,6,0)&""
A23: ITAC-04 | B23: =VLOOKUP($A23,Questions!$A$2:$X$333,2,0) | C23: 352-281-4587 | E23: =IF($C$18='Auto Responses'!$J$4,'Auto Responses'!$A$4,IF($C23='Auto Responses'!$J$3,VLOOKUP($A23,Questions!$A$2:$X$333,17,0)&"",IF($C23='Auto Responses'!$J$4,VLOOKUP($A23,Questions!$A$2:$X$333,16,0)&"",VLOOKUP($A23,Questions!$A$2:$X$333,15,0)&""))) | F23: =VLOOKUP($A23,'Institution Evaluation'!$A$56:$F$345,6,0)&""
A24: ITAC-05 | B24: =VLOOKUP($A24,Questions!$A$2:$X$333,2,0) | C24: https://edugator.app/accessibility | D24: VPAT 2.5Rev (ACR) for v1.0.140 dated 16 August 2026 is linked from the statement. | E24: =IF($C$18='Auto Responses'!$J$4,'Auto Responses'!$A$4,IF($C24='Auto Responses'!$J$3,VLOOKUP($A24,Questions!$A$2:$X$333,17,0)&"",IF($C24='Auto Responses'!$J$4,VLOOKUP($A24,Questions!$A$2:$X$333,16,0)&"",VLOOKUP($A24,Questions!$A$2:$X$333,15,0)&""))) | F24: =VLOOKUP($A24,'Institution Evaluation'!$A$56:$F$345,6,0)&""
A25: ITAC-06 | B25: =VLOOKUP($A25,Questions!$A$2:$X$333,2,0) | C25: Yes | D25: ACR dated 16 August 2026 (revising 31 March 2026). | E25: =IF($C$18='Auto Responses'!$J$4,'Auto Responses'!$A$4,IF($C25='Auto Responses'!$J$3,VLOOKUP($A25,Questions!$A$2:$X$333,17,0)&"",IF($C25='Auto Responses'!$J$4,VLOOKUP($A25,Questions!$A$2:$X$333,16,0)&"",VLOOKUP($A25,Questions!$A$2:$X$333,15,0)&""))) | F25: =VLOOKUP($A25,'Institution Evaluation'!$A$56:$F$345,6,0)&""
A26: ITAC-07 | B26: =VLOOKUP($A26,Questions!$A$2:$X$333,2,0) | C26: Yes | E26: =IF($C$18='Auto Responses'!$J$4,'Auto Responses'!$A$4,IF($C26='Auto Responses'!$J$3,VLOOKUP($A26,Questions!$A$2:$X$333,17,0)&"",IF($C26='Auto Responses'!$J$4,VLOOKUP($A26,Questions!$A$2:$X$333,16,0)&"",VLOOKUP($A26,Questions!$A$2:$X$333,15,0)&""))) | F26: =VLOOKUP($A26,'Institution Evaluation'!$A$56:$F$345,6,0)&""
A27: ITAC-08 | B27: =VLOOKUP($A27,Questions!$A$2:$X$333,2,0) | C27: No | D27: Edugator partially conforms to WCAG 2.1 AA; exceptions are listed in the ACR. | E27: =IF($C$18='Auto Responses'!$J$4,'Auto Responses'!$A$4,IF($C27='Auto Responses'!$J$3,VLOOKUP($A27,Questions!$A$2:$X$333,17,0)&"",IF($C27='Auto Responses'!$J$4,VLOOKUP($A27,Questions!$A$2:$X$333,16,0)&"",VLOOKUP($A27,Questions!$A$2:$X$333,15,0)&""))) | F27: =VLOOKUP($A27,'Institution Evaluation'!$A$56:$F$345,6,0)&""
A28: ITAC-09 | B28: =VLOOKUP($A28,Questions!$A$2:$X$333,2,0) | C28: Yes | D28: Reports go to support@edugator.app (subject 'Accessibility'), tracked in the product backlog; acknowledgment within 7 business days, response within 15. | E28: =IF($C$18='Auto Responses'!$J$4,'Auto Responses'!$A$4,IF($C28='Auto Responses'!$J$3,VLOOKUP($A28,Questions!$A$2:$X$333,17,0)&"",IF($C28='Auto Responses'!$J$4,VLOOKUP($A28,Questions!$A$2:$X$333,16,0)&"",VLOOKUP($A28,Questions!$A$2:$X$333,15,0)&""))) | F28: =VLOOKUP($A28,'Institution Evaluation'!$A$56:$F$345,6,0)&""
A29: ITAC-10 | B29: =VLOOKUP($A29,Questions!$A$2:$X$333,2,0) | C29: Yes | D29: Accessibility statement and ACR. | E29: =IF($C$18='Auto Responses'!$J$4,'Auto Responses'!$A$4,IF($C29='Auto Responses'!$J$3,VLOOKUP($A29,Questions!$A$2:$X$333,17,0)&"",IF($C29='Auto Responses'!$J$4,VLOOKUP($A29,Questions!$A$2:$X$333,16,0)&"",VLOOKUP($A29,Questions!$A$2:$X$333,15,0)&""))) | F29: =VLOOKUP($A29,'Institution Evaluation'!$A$56:$F$345,6,0)&""
A30: ITAC-11 | B30: =VLOOKUP($A30,Questions!$A$2:$X$333,2,0) | C30: No | D30: Evaluation was performed internally (NVDA, axe DevTools, Lighthouse, manual keyboard testing). | E30: =IF($C$18='Auto Responses'!$J$4,'Auto Responses'!$A$4,IF($C30='Auto Responses'!$J$3,VLOOKUP($A30,Questions!$A$2:$X$333,17,0)&"",IF($C30='Auto Responses'!$J$4,VLOOKUP($A30,Questions!$A$2:$X$333,16,0)&"",VLOOKUP($A30,Questions!$A$2:$X$333,15,0)&""))) | F30: =VLOOKUP($A30,'Institution Evaluation'!$A$56:$F$345,6,0)&""
A31: ITAC-12 | B31: =VLOOKUP($A31,Questions!$A$2:$X$333,2,0) | C31: Yes | D31: Each WCAG 2.1 A/AA criterion is re-tested (NVDA, axe DevTools, Lighthouse, manual keyboard/focus/reflow) before each ACR and at least annually; criteria are marked supported only after testing. | E31: =IF($C$18='Auto Responses'!$J$4,'Auto Responses'!$A$4,IF($C31='Auto Responses'!$J$3,VLOOKUP($A31,Questions!$A$2:$X$333,17,0)&"",IF($C31='Auto Responses'!$J$4,VLOOKUP($A31,Questions!$A$2:$X$333,16,0)&"",VLOOKUP($A31,Questions!$A$2:$X$333,15,0)&""))) | F31: =VLOOKUP($A31,'Institution Evaluation'!$A$56:$F$345,6,0)&""
A32: ITAC-13 | B32: =VLOOKUP($A32,Questions!$A$2:$X$333,2,0) | C32: Yes | D32: WCAG 2.1 Level AA. | E32: =IF($C$18='Auto Responses'!$J$4,'Auto Responses'!$A$4,IF($C32='Auto Responses'!$J$3,VLOOKUP($A32,Questions!$A$2:$X$333,17,0)&"",IF($C32='Auto Responses'!$J$4,VLOOKUP($A32,Questions!$A$2:$X$333,16,0)&"",VLOOKUP($A32,Questions!$A$2:$X$333,15,0)&""))) | F32: =VLOOKUP($A32,'Institution Evaluation'!$A$56:$F$345,6,0)&""
A33: ITAC-14 | B33: =VLOOKUP($A33,Questions!$A$2:$X$333,2,0) | C33: Yes | D33: Roadmap with target quarters for each known exception (2.5.1, 1.4.10, 1.3.4 in Q1 2027; 2.2.2, 1.2.5 and WCAG 2.2 evaluation in Q2 2027; mobile evaluation Q3 2027); available on request. | E33: =IF($C$18='Auto Responses'!$J$4,'Auto Responses'!$A$4,IF($C33='Auto Responses'!$J$3,VLOOKUP($A33,Questions!$A$2:$X$333,17,0)&"",IF($C33='Auto Responses'!$J$4,VLOOKUP($A33,Questions!$A$2:$X$333,16,0)&"",VLOOKUP($A33,Questions!$A$2:$X$333,15,0)&""))) | F33: =VLOOKUP($A33,'Institution Evaluation'!$A$56:$F$345,6,0)&""
A34: ITAC-15 | B34: =VLOOKUP($A34,Questions!$A$2:$X$333,2,0) | C34: Yes | E34: =IF($C$18='Auto Responses'!$J$4,'Auto Responses'!$A$4,IF($C34='Auto Responses'!$J$3,VLOOKUP($A34,Questions!$A$2:$X$333,17,0)&"",IF($C34='Auto Responses'!$J$4,VLOOKUP($A34,Questions!$A$2:$X$333,16,0)&"",VLOOKUP($A34,Questions!$A$2:$X$333,15,0)&""))) | F34: =VLOOKUP($A34,'Institution Evaluation'!$A$56:$F$345,6,0)&""
A35: ITAC-16 | B35: =VLOOKUP($A35,Questions!$A$2:$X$333,2,0) | C35: Yes | D35: Accessibility checks are part of design, build and pull-request review (keyboard walkthrough, axe scan, 200%/400% zoom, screen reader spot checks); accessibility defects are tracked and prioritized with other defects. | E35: =IF($C$18='Auto Responses'!$J$4,'Auto Responses'!$A$4,IF($C35='Auto Responses'!$J$3,VLOOKUP($A35,Questions!$A$2:$X$333,17,0)&"",IF($C35='Auto Responses'!$J$4,VLOOKUP($A35,Questions!$A$2:$X$333,16,0)&"",VLOOKUP($A35,Questions!$A$2:$X$333,15,0)&""))) | F35: =VLOOKUP($A35,'Institution Evaluation'!$A$56:$F$345,6,0)&""
A36: ITAC-17 | B36: =VLOOKUP($A36,Questions!$A$2:$X$333,2,0) | C36: Yes | D36: Keyboard-only use was evaluated; the code editor supports leaving focus with Escape then Tab. See ACR for any exceptions. | E36: =IF($C$18='Auto Responses'!$J$4,'Auto Responses'!$A$4,IF($C36='Auto Responses'!$J$3,VLOOKUP($A36,Questions!$A$2:$X$333,17,0)&"",IF($C36='Auto Responses'!$J$4,VLOOKUP($A36,Questions!$A$2:$X$333,16,0)&"",VLOOKUP($A36,Questions!$A$2:$X$333,15,0)&""))) | F36: =VLOOKUP($A36,'Institution Evaluation'!$A$56:$F$345,6,0)&""
A37: ITAC-18 | B37: =VLOOKUP($A37,Questions!$A$2:$X$333,2,0) | C37: No | E37: =IF($C$18='Auto Responses'!$J$4,'Auto Responses'!$A$4,IF($C37='Auto Responses'!$J$3,VLOOKUP($A37,Questions!$A$2:$X$333,17,0)&"",IF($C37='Auto Responses'!$J$4,VLOOKUP($A37,Questions!$A$2:$X$333,16,0)&"",VLOOKUP($A37,Questions!$A$2:$X$333,15,0)&""))) | F37: =VLOOKUP($A37,'Institution Evaluation'!$A$56:$F$345,6,0)&"" | G37: End Table Data
A38: Copyright © 2025 EDUCAUSE
A41: =#REF!
A42: =#REF!
...

Sheet Case-Specific
A1: Cells contained in this worksheet may contain cells with dropdown lists as well as autopopulated formulas.
A2: HECVAT Solution Provider Response - Case-Specific Questions | F2: ='Auto Responses'!$A$36
A3: Date Completed | C3: ='START HERE'!$C$3
A4: Instructions for Solution Providers
A5: =HLOOKUP($A$4,'Auto Responses'!$D$2:$D$8,2,0)&""
A6: =HLOOKUP($A$4,'Auto Responses'!$D$2:$D$8,3,0)&""
A7: =HLOOKUP($A$4,'Auto Responses'!$D$2:$D$8,4,0)&"" -> 3. Guidance in column E may change based on your answers to prompt details in "Additional Information." If leaving an answer blank, you must also state why in "Additional Information".
A8: =HLOOKUP($A$4,'Auto Responses'!$D$2:$D$8,5,0)&""
A9: =HLOOKUP($A$4,'Auto Responses'!$D$2:$D$8,6,0)&""
A10: =HLOOKUP($A$4,'Auto Responses'!$D$2:$D$8,7,0)&""
A11: =HLOOKUP($A$4,'Auto Responses'!$D$2:$D$9,8,0)&""
A12: =VLOOKUP(LEFT($A13,4),'Auto Responses'!$N$4:$O$38,2,0)&"" -> General Information | C12: Answer
A13: GNRL-01 | B13: =VLOOKUP($A13,Questions!$A$2:$X$333,2,0)&"" | C13: =VLOOKUP($A13,'START HERE'!$A$13:$C$21,3,0)&""
A14: GNRL-02 | B14: =VLOOKUP($A14,Questions!$A$2:$X$333,2,0)&"" | C14: =VLOOKUP($A14,'START HERE'!$A$13:$C$21,3,0)&""
A15: GNRL-03 | B15: =VLOOKUP($A15,Questions!$A$2:$X$333,2,0)&"" | C15: =VLOOKUP($A15,'START HERE'!$A$13:$C$21,3,0)&""
A16: GNRL-08 | B16: =VLOOKUP($A16,Questions!$A$2:$X$333,2,0)&"" | C16: =VLOOKUP($A16,'START HERE'!$A$13:$C$21,3,0)&""
A17: =VLOOKUP(LEFT($A18,4),'Auto Responses'!$N$4:$O$38,2,0)&"" -> Required Questions | C17: Answer | D17: Additional Information | E17: Guidance | F17: Analyst Notes
A18: REQU-03 | B18: =VLOOKUP($A18,Questions!$A$2:$X$333,2,0) | C18: =VLOOKUP($A18,'START HERE'!$A$23:$F$36,3,0)&"" | D18: =VLOOKUP($A18,'START HERE'!$A$23:$F$36,4,0)&"" | E18: =IF($C18='Auto Responses'!$J$3,VLOOKUP($A18,Questions!$A$2:$X$333,17,0)&"",IF($C18='Auto Responses'!$J$4,VLOOKUP($A18,Questions!$A$2:$X$333,16,0)&"",VLOOKUP($A18,Questions!$A$2:$X$333,15,0)&"")) | F18: =VLOOKUP($A18,'Institution Evaluation'!$A$56:$F$345,6,0)&""
A19: REQU-05 | B19: =VLOOKUP($A19,Questions!$A$2:$X$333,2,0) | C19: =VLOOKUP($A19,'START HERE'!$A$23:$F$36,3,0)&"" | D19: =VLOOKUP($A19,'START HERE'!$A$23:$F$36,4,0)&"" | E19: =IF($C19='Auto Responses'!$J$3,VLOOKUP($A19,Questions!$A$2:$X$333,17,0)&"",IF($C19='Auto Responses'!$J$4,VLOOKUP($A19,Questions!$A$2:$X$333,16,0)&"",VLOOKUP($A19,Questions!$A$2:$X$333,15,0)&"")) | F19: =VLOOKUP($A19,'Institution Evaluation'!$A$56:$F$345,6,0)&""
A20: REQU-06 | B20: =VLOOKUP($A20,Questions!$A$2:$X$333,2,0) | C20: =VLOOKUP($A20,'START HERE'!$A$23:$F$36,3,0)&"" | D20: =VLOOKUP($A20,'START HERE'!$A$23:$F$36,4,0)&"" | E20: =IF($C20='Auto Responses'!$J$3,VLOOKUP($A20,Questions!$A$2:$X$333,17,0)&"",IF($C20='Auto Responses'!$J$4,VLOOKUP($A20,Questions!$A$2:$X$333,16,0)&"",VLOOKUP($A20,Questions!$A$2:$X$333,15,0)&"")) | F20: =VLOOKUP($A20,'Institution Evaluation'!$A$56:$F$345,6,0)&""
A21: REQU-07 | B21: =VLOOKUP($A21,Questions!$A$2:$X$333,2,0) | C21: =VLOOKUP($A21,'START HERE'!$A$23:$F$36,3,0)&"" | D21: =VLOOKUP($A21,'START HERE'!$A$23:$F$36,4,0)&"" | E21: =IF($C21='Auto Responses'!$J$3,VLOOKUP($A21,Questions!$A$2:$X$333,17,0)&"",IF($C21='Auto Responses'!$J$4,VLOOKUP($A21,Questions!$A$2:$X$333,16,0)&"",VLOOKUP($A21,Questions!$A$2:$X$333,15,0)&"")) | F21: =VLOOKUP($A21,'Institution Evaluation'!$A$56:$F$345,6,0)&"" | G21: End Table Data
A22: =VLOOKUP(LEFT($A23,4),'Auto Responses'!$N$4:$O$38,2,0)&"" -> Consulting Services | C22: Answer | D22: Additional Information | E22: Guidance | F22: Analyst Notes
A23: CONS-01 | B23: =VLOOKUP($A23,Questions!$A$2:$X$333,2,0) | D23: Not applicable: Edugator does not provide consulting services (REQU-03 = No). | E23: =IF($C$18='Auto Responses'!$J$4,'Auto Responses'!$A$5,IF($C23='Auto Responses'!$J$3,VLOOKUP($A23,Questions!$A$2:$X$333,17,0)&"",IF($C23='Auto Responses'!$J$4,VLOOKUP($A23,Questions!$A$2:$X$333,16,0)&"",VLOOKUP($A23,Questions!$A$2:$X$333,15,0)&""))) | F23: =VLOOKUP($A23,'Institution Evaluation'!$A$56:$F$345,6,0)&""
A24: CONS-02 | B24: =VLOOKUP($A24,Questions!$A$2:$X$333,2,0) | D24: Not applicable: Edugator does not provide consulting services (REQU-03 = No). | E24: =IF($C$18='Auto Responses'!$J$4,'Auto Responses'!$A$5,IF($C24='Auto Responses'!$J$3,VLOOKUP($A24,Questions!$A$2:$X$333,17,0)&"",IF($C24='Auto Responses'!$J$4,VLOOKUP($A24,Questions!$A$2:$X$333,16,0)&"",VLOOKUP($A24,Questions!$A$2:$X$333,15,0)&""))) | F24: =VLOOKUP($A24,'Institution Evaluation'!$A$56:$F$345,6,0)&""
A25: CONS-03 | B25: =VLOOKUP($A25,Questions!$A$2:$X$333,2,0) | D25: Not applicable: Edugator does not provide consulting services (REQU-03 = No). | E25: =IF($C$18='Auto Responses'!$J$4,'Auto Responses'!$A$5,IF($C25='Auto Responses'!$J$3,VLOOKUP($A25,Questions!$A$2:$X$333,17,0)&"",IF($C25='Auto Responses'!$J$4,VLOOKUP($A25,Questions!$A$2:$X$333,16,0)&"",IF($C25='Auto Responses'!$J$5,VLOOKUP($A25,Questions!$A$2:$X$333,18,0)&"",VLOOKUP($A25,Questions!$A$2:$X$333,15,0)&"")))) | F25: =VLOOKUP($A25,'Institution Evaluation'!$A$56:$F$345,6,0)&""
